BEGIN:VCALENDAR
VERSION:2.0
PRODID:-//FSRD IKJ - ECPv4.6.21//NONSGML v1.0//EN
CALSCALE:GREGORIAN
METHOD:PUBLISH
X-WR-CALNAME:FSRD IKJ
X-ORIGINAL-URL:https://senirupaikj.ac.id
X-WR-CALDESC:Events for FSRD IKJ
BEGIN:VEVENT
DTSTART;TZID=UTC+0:20201008T150000
DTEND;TZID=UTC+0:20201008T160000
DTSTAMP:20260423T083854
CREATED:20201005T103418Z
LAST-MODIFIED:20201005T103547Z
UID:7960-1602169200-1602172800@senirupaikj.ac.id
SUMMARY:ANIMAKINI 2020 : Coming Soon
DESCRIPTION:\n   \n\n\n\n\n\n\n\n\n\n\n View this post on Instagram\n\n\n\n\n\n\n\n\n\n\n\n\n\n\n\n\n\n\n  \n Hai kawan-kawan pecinta animasi Indonesia? Gimana nih kabarnya… pasti kangen banget kan sama Animakini? Kali ini Animakini 2020 kembali hadir dan tampil berbeda dari tahun-tahun sebelumnya ! Animakini 2020 berlangsung dengan beragam acara secara daring kawan-kawan… 😎🖱 Jadi kalian yang ada di seluruh Indonesia bisa ikut kegiatan ini #darirumahsaja\, kegiatannya dimulai dengan sharing animasi\, workshop animasi\, seminar akademik\, talkshow industri animasi dan yang gak kalah seru akan ada penayangan daring perdana karya terpilih dari kolaborasi Nonton Bareng Animasi Indonesia selama sebulan bersama 35 Institusi hasil karya Tugas akhir ! "ANIMASI INDONESIA\, MESKI BERJARAK TETAP BERGERAK !" Kapan acaranya?🕵 Sudah pasti di bulan Oktober ini ! 😏 Via Zoom Animakini  Acaranya : ✔Gratis  ✔Dapat E-Sertifikat ✔Terbatas 450 peserta Info selengkapnya :  💻www.animakini.id 📱0817173773 📲 Sosial Media IG @animakini Facebook : animakini Pantengin terus sosial media Animakini untuk dapatkan informasi tanggal acara dan link pendaftaran ☺😎 Yuk rame2 kita repost postingan ini!  #AnimasiIndonesiaMeskiBerjarakTetapBergerak #animakini #animakini2020 #dirumahsaja #stayathome #ainaki #nobaranimasisebulan #animasinusantara #SenirupaIKJ #deskovIKJ #animasi #animation \nA post shared by  Animakini (@animakini) on Oct 1\, 2020 at 6:13pm PDT \n\n\n \n
URL:https://senirupaikj.ac.id/kegiatan/animakini-2020-coming-soon/
CATEGORIES:Seni Rupa
ATTACH;FMTTYPE=image/jpeg:https://senirupaikj.ac.id/wp-content/uploads/2020/10/animakini-2020.jpg
END:VEVENT
END:VCALENDAR