BEGIN:VCALENDAR
VERSION:2.0
PRODID:-//FSRD IKJ - ECPv4.6.21//NONSGML v1.0//EN
CALSCALE:GREGORIAN
METHOD:PUBLISH
X-WR-CALNAME:FSRD IKJ
X-ORIGINAL-URL:https://senirupaikj.ac.id
X-WR-CALDESC:Events for FSRD IKJ
BEGIN:VEVENT
DTSTART;TZID=UTC+0:20231204T093000
DTEND;TZID=UTC+0:20231205T200000
DTSTAMP:20260423T192728
CREATED:20231203T000307Z
LAST-MODIFIED:20231203T000330Z
UID:11443-1701682200-1701806400@senirupaikj.ac.id
SUMMARY:ANIMAKini 2023 “Rebooting Creativity”
DESCRIPTION:Animakini 2023 kembali hadir dengan ragam rangkaian acara di antaranya Lomba Animasi\, Pra ANIMAKini Goes to School dan Seminar Akademik dan Industri yang akan berlangsung di bulan Desember 2023. \nBerikut rangkaian kegiatan ANIMAKINI 2023: \nPUNCAK ANIMAKini 2023\n✨Opening ANIMAKini 2023\nSenin\, 4 Desember 2023\n13.00 WIB\nTeater Kecil\, Teater Jakarta\, Taman Ismail Marzuki \n✨Seminar Akademik & Industri\nSenin\, 4 Desember 2023\n14.00 s.d 17.30 WIB \nPembicara :\nSEMINAR AKADEMIK\n1. Dodi Triaviandi (Perkembangan Teknologi AI pada Karya Seni dan Desain)\n2. Kendra Hanif Paramita (Proses Kreatif dalam Mewujudkan Ide Visual cover Tempo) \nSEMINAR INDUSTRI :\n1. Ehwan Kurniawan (Perkembangan Industri Animasi & Program kegiatan AINAKI)\n2. Aline Jusria\, INAFED\, Editor Film Like & Share\, editor terbaik FFI 2023 (Film Editing dan Industri Film) \nPenayangan nominasi lomba animasi pelajar dan mahasiswa \n✨Seminar Industri & Talkshow\nSelasa\, 5 Desember 2023\n09.30 s.d 20.00 WIB \nSEMINAR INDUSTRI\nPembicara :\n1. Riris Marpaung (Perkembangan Industri Game IP Lokal)\n2. Ryan Andriandhy Halim (Proses Kreatif animasi Jumbo)\n3. Aditya Triantoro (Behind the Scene animasi Trungtung Pemenang Animasi FFI 23) \nTALKSHOW :\n1. Frederett ( AKA VIRTUAL ) \, Animasi dalam Industri\n2. Vtuber Alexander Bella\, Dampak Cosplayer terhadap film animasi dan pengaruhnya\n3. Zidny Player 2\, Animasi dalam sudut Pandang Gamer \nPenayangan film pendek “Evakuasi Mama Emola” karya Anggun Priambodo\, pemenang FFI 2023 kategori film pendek \nPengumuman pemenang lomba animasi pelajar dan mahasiswa Animakini 2023 \nYuk ajak teman-teman pecinta animasi lainnya untuk bergabung di ANIMAKini 2023 !\n🥳 \nRegistrasi : https://linktr.ee/animakini.id\n📍Teater Kecil\, Teater Jakarta Taman Ismail Marzuki\n💵HTM : FREE\nGET : e-Sertifikat 🎟️ \n💻 www.animakini.id\nIG @animakini\nFacebook : animakini \n@fsrdikj @deskovikj\n@institutkesenianjakarta \n
URL:https://senirupaikj.ac.id/kegiatan/animakini-2023-rebooting-creativity/
LOCATION:Jl. Cikini Raya No.73\, RT.8/RW.2\, Cikini\, Kec. Menteng\, Kota Jakarta Pusat\, Jakarta\, DKI Jakarta\, 10330\, Indonesia
CATEGORIES:Desain Komunikasi Visual
ATTACH;FMTTYPE=image/jpeg:https://senirupaikj.ac.id/wp-content/uploads/2023/12/WhatsApp-Image-2023-12-01-at-15.39.45.jpeg
ORGANIZER;CN="FSRD%20IKJ":MAILTO:eindah@ikj.ac.id
END:VEVENT
END:VCALENDAR