BEGIN:VCALENDAR
VERSION:2.0
PRODID:-//FSRD IKJ - ECPv4.6.21//NONSGML v1.0//EN
CALSCALE:GREGORIAN
METHOD:PUBLISH
X-WR-CALNAME:FSRD IKJ
X-ORIGINAL-URL:https://senirupaikj.ac.id
X-WR-CALDESC:Events for FSRD IKJ
BEGIN:VEVENT
DTSTART;TZID=UTC+0:20220121T080000
DTEND;TZID=UTC+0:20220121T170000
DTSTAMP:20260424T110109
CREATED:20220118T082344Z
LAST-MODIFIED:20220118T082431Z
UID:9873-1642752000-1642784400@senirupaikj.ac.id
SUMMARY:“Branding Ceria UKM Gembira”\, Deskov FSRD IKJ (Hari ke 1)
DESCRIPTION:“Branding Ceria UKM Gembira” merupakan Program Pengabdian Masyarakat Prodi Deskov FSRD IKJ berkolaborasi dengan UKM binaan Aliansi Kuliner Indonesia dan Selow Food. dari progress tugas kuliah mayor “real project” Mayor kolaborasi dari 3 peminatan; Desain Grafis\, Multimedia\, dan Ilustrasi dari 24 kelompok kerja. \nBerikut jadwal “sharing for public” hari pertama pada Jumat\, 21 Januari dari pukul 09.00 wib hingga selesai via link zoom di bawah ini. \nTopic: Sharing for public – Kolaborasi BRANDING CERIA 2022\nTime: Jan 21-22\, 2022 08:00 AM Jakarta \nJoin Zoom Meeting\nhttps://zoom.us/j/4079914310?pwd=VlNQMEJVS1R3aExXcUlEaDQ2cUVNQT09 \nMeeting ID: 407 991 4310\nPasscode: fsrdikj \nKelompok DKV Kolaborasi Kelas Jumat 21 Januari 2022 \nKelompok 01: UKM ‘Dapur Ere’\n1. Arafah Zakiyah Rachma\n2. Betharianty Sekar Wulandari\n3. Siti Nadiyah Munawaroh \nKelompok 02: UKM ‘Weejee Food’\n1. Raja Fauzan G ani\n2. Ibrohim Welafubun\n3. Urfatun Naqib\n4. Rizky Fadhilah \nKelompok 03: UKM ‘Gendis Kitchen’\n1. Rizal Julius Sitanggang\n2. Brenda Christovita Daniella Situngkir\n3. Nabila Astika Wizari \nKelompok 04: UKM ‘Marvera’\n1. Rangga Dhias Mei Saputra\n2. Kukuh Prasetyo\n3. Rifqi Ali Zuhdi \nKelompok 05: UKM ‘Rengginang Nyi’\n1. Silvia Nur Oktaviani\n2. Muhammad Imad Muzhaffar \nKelompok 06: UKM ‘Yummy Amy’\n1. Reiza Permana Kurniawan\n2. Fahmi Aziz Zainuddin\n3. Muhammad Farhan Erlangga \nKelompok 07: UKM ‘Umbioat’\n1. Fabian Ramadhan\n2. Frido Taksaka Wibisono\n3. Maulana Malik Hidayattulah\nKelompok 08: UKM ‘Dawet Ireng Gubug Alit’\n1. Hafiz Surya Dermawan\n2. Rama Yapin Koresy Lay\n3. Rayhan Zuhair\nKelompok 09: UKM ‘Jamu Gendong Putri’\n1. Mifthaqul Nurda\n2. Muhammad Dhafa Esaputra\n3. Dzulfiqar Akbar Naufa \nKelompok 10: UKM ‘Keripik Sitaaajir’\n1. Intan Khairun Nisa\n2. Septo Bekti Satrio\n3. Agung Morynki \nKelompok 11: UKM ‘Amero’\n1. Nabila Azzahra\n2. Nurani Puspitasari \n  \n \n
URL:https://senirupaikj.ac.id/kegiatan/branding-ceria-ukm-gembira-deskov-fsrd-ikj-hari-ke-1/
CATEGORIES:Desain Komunikasi Visual
ATTACH;FMTTYPE=image/jpeg:https://senirupaikj.ac.id/wp-content/uploads/2022/01/branding-bahagia-banner-kelas-A.jpg
END:VEVENT
END:VCALENDAR