BEGIN:VCALENDAR
VERSION:2.0
PRODID:-//FSRD IKJ - ECPv4.6.21//NONSGML v1.0//EN
CALSCALE:GREGORIAN
METHOD:PUBLISH
X-WR-CALNAME:FSRD IKJ
X-ORIGINAL-URL:https://senirupaikj.ac.id
X-WR-CALDESC:Events for FSRD IKJ
BEGIN:VEVENT
DTSTART;TZID=UTC+0:20210422T080000
DTEND;TZID=UTC+0:20210508T170000
DTSTAMP:20260423T083854
CREATED:20210520T093607Z
LAST-MODIFIED:20210520T093607Z
UID:8832-1619078400-1620493200@senirupaikj.ac.id
SUMMARY:Caraka Bumi
DESCRIPTION:📜Hallooo Halloo Ada “OPEN CALL” terbaru nih !!! \nSebuah Pameran seni Rupa yang diadakan secara daring.\nJudulnyaa “Caraka Bumi” tema ini diambil dari hari ini !!! \nLah ko hari ini ? \nIya hari ini bertepatan dengan HARI BUMI 22 APRIL 🌍 \nYang menariknya nih ada beberapa penghargaan juga looohh buat 20 nominasi karya terbaik akan diberikan penghargaan oleh\n“FSR IKJ AWARD 2021”\nbagi teman-teman yang ikut serta dalam pameran nantinya. \nDan karyanya bisa dikoleksi !!! 40% dari penjualan akan di donasikan ke konservasi mangrove Jakarta kita ini\, melalui partner komunitas @leva.co.id 🌤 \nSyarat dan ketentuan dapat di lihat di link  \nAcara berlangsung di platform instagram kita ya\n✨ @carakabumi.ikj ✨ \n📆 Catet Tanggalnya\nOpencall :\n22 April – 8 Mei 2021\nPengumuman Karya Terpilih :\n16 Mei 2021 \n  \n      \nYuk Ikutan\nDemi bumi\, Demi kehidupan! \nSelamat Hari Bumi 🌍\nPamerin karya-karya goks nya ya!\nSalam Debur Ombak 🔥\nSEMANGART 🔥 \n
URL:https://senirupaikj.ac.id/kegiatan/caraka-bumi/
LOCATION:Jalan Sekolah Seni No.1 (Raden Saleh)\, Kompleks Taman Ismail Marzuki\, RT.8/RW.2\, Cikini\, Menteng\, Jakarta Pusat\, Jakarta\, 10330\, Indonesia
CATEGORIES:Seni Rupa
ATTACH;FMTTYPE=image/jpeg:https://senirupaikj.ac.id/wp-content/uploads/2021/05/caraka-bumi-banner.jpg
END:VEVENT
END:VCALENDAR