BEGIN:VCALENDAR
VERSION:2.0
PRODID:-//FSRD IKJ - ECPv4.6.21//NONSGML v1.0//EN
CALSCALE:GREGORIAN
METHOD:PUBLISH
X-WR-CALNAME:FSRD IKJ
X-ORIGINAL-URL:https://senirupaikj.ac.id
X-WR-CALDESC:Events for FSRD IKJ
BEGIN:VEVENT
DTSTART;TZID=UTC+0:20251025T090000
DTEND;TZID=UTC+0:20251102T170000
DTSTAMP:20260424T115644
CREATED:20251024T054652Z
LAST-MODIFIED:20251024T054652Z
UID:13004-1761382800-1762102800@senirupaikj.ac.id
SUMMARY:Pameran Pengajar FSRD-IKJ "Beyond Perception"
DESCRIPTION: \nPameran Beyond Perception mengajak kita meninjau ulang cara-cara kita memahami dunia melalui seni. \nPersepsi—yang biasanya kita anggap sebagai alat utama untuk melihat dan merasakan—dalam konteks seni bisa dibuka\, diganggu\, atau bahkan dibentuk ulang. \nMelalui beragam pendekatan dari seni rupa murni\, desain komunikasi visual\, kria\, interior\, hingga mode\, para dosen Fakultas Seni Rupa mengeksplorasi batas-batas persepsi dalam konteks budaya\, psikologi\, dan teknologi. \nKurator tidak memilih karya peserta. Setiap dosen memilih dan menyusun karyanya secara mandiri dan profesional. Kurator hanya menawarkan bingkai pemikiran konseptual\, sebagai ruang dialog bersama agar pameran ini tidak hanya menjadi presentasi visual\, tetapi juga refleksi bersama tentang bagaimana seni membantu kita melihat lebih dari sekadar yang tampak. \n—— \nPembukaan Pameran \n-BEYOND PERCEPTION- \n📆 Sabtu\, 25 Oktober 2025 \n🕖 19.00 WIB \n🏛 Galeri Emiria Soenassa\, Taman Ismail Marzuki \n  \nPameran Berlangsung \n📆 26 Oktober-2 November 2025 \n🕖09.00-20.00 WIB \n  \n#exhibition \n#pamerandosenfsrdikj \n#beyondperception \n
URL:https://senirupaikj.ac.id/kegiatan/pameran-pengajar-fsrd-ikj-beyond-perception/
LOCATION:Jl. Cikini Raya No. 73\, Jakarta Pusat\, DKI Jakarta\, Indonesia
CATEGORIES:FSRD IKJ
ATTACH;FMTTYPE=image/jpeg:https://senirupaikj.ac.id/wp-content/uploads/2025/10/IMG-20251024-WA0016.jpg
ORGANIZER;CN="FSRD%20IKJ":MAILTO:eindah@ikj.ac.id
END:VEVENT
END:VCALENDAR