BEGIN:VCALENDAR
VERSION:2.0
PRODID:-//FSRD IKJ - ECPv4.6.21//NONSGML v1.0//EN
CALSCALE:GREGORIAN
METHOD:PUBLISH
X-WR-CALNAME:FSRD IKJ
X-ORIGINAL-URL:https://senirupaikj.ac.id
X-WR-CALDESC:Events for FSRD IKJ
BEGIN:VEVENT
DTSTART;TZID=UTC+0:20240105T140000
DTEND;TZID=UTC+0:20240105T160000
DTSTAMP:20260423T174337
CREATED:20240105T060725Z
LAST-MODIFIED:20240105T060825Z
UID:11488-1704463200-1704470400@senirupaikj.ac.id
SUMMARY:Diskusi Seni Rupa - Pameran UNFRAMING
DESCRIPTION:Diskusi Seni Rupa\nPameran UNFRAMING \nPembicara :\n🔸Dr. Citra Smara Dewi\, S.Sn.\, M.Si.\n(Dinamika Lembaga Kebudayaan) \n🔸Firman Lie\, M.Sn.\n(Melengkapi Ekosistem Seni Rupa Indonesia) \nModerator :\n🔸Oky Arfie Hutabarat\, S.Sn. \n📆 Jumat\, 5 Januari 2023\n⏰ 14.00 WIB\n📍Galeri FSRD IKJ \n✔️Registrasi\, On the spot\n✔️Free\n✔️Terbuka untuk umum \nCP : 0817173773 \n#fsrdikj\n#unframing\n#exhibition\n#diskusi \n
URL:https://senirupaikj.ac.id/kegiatan/diskusi-seni-rupa-pameran-unframing/
LOCATION:Jalan Sekolah Seni No.1 (Raden Saleh)\, Kompleks Taman Ismail Marzuki\, RT.8/RW.2\, Cikini\, Menteng\, Jakarta Pusat\, Jakarta\, 10330\, Indonesia
CATEGORIES:FSRD IKJ
ATTACH;FMTTYPE=image/jpeg:https://senirupaikj.ac.id/wp-content/uploads/2024/01/WhatsApp-Image-2024-01-04-at-14.14.45.jpeg
ORGANIZER;CN="FSRD%20IKJ":MAILTO:eindah@ikj.ac.id
END:VEVENT
END:VCALENDAR