BEGIN:VCALENDAR
VERSION:2.0
PRODID:-//FSRD IKJ - ECPv4.6.21//NONSGML v1.0//EN
CALSCALE:GREGORIAN
METHOD:PUBLISH
X-WR-CALNAME:FSRD IKJ
X-ORIGINAL-URL:https://senirupaikj.ac.id
X-WR-CALDESC:Events for FSRD IKJ
BEGIN:VEVENT
DTSTART;TZID=UTC+0:20240119T130000
DTEND;TZID=UTC+0:20240119T170000
DTSTAMP:20260423T160134
CREATED:20240118T042101Z
LAST-MODIFIED:20240118T042437Z
UID:11504-1705669200-1705683600@senirupaikj.ac.id
SUMMARY:Divergence in Fashion
DESCRIPTION:Hello\, 𝙁𝙖𝙨𝙝𝙞𝙤𝙣 𝙚𝙣𝙩𝙝𝙪𝙨𝙞𝙖𝙨𝙩𝙨 🩷 \nWe proudly present our “𝘿𝙞𝙫𝙚𝙧𝙜𝙚𝙣𝙘𝙚 𝙞𝙣 𝙁𝙖𝙨𝙝𝙞𝙤𝙣” Final Exam Fashion Show and Art Exhibition from IKJ’s Fashion Student 🤩 \nthis event is set to be a remarkable show\, with 5 main themes show\, 39 talented student\, and 94 looks 💃🏻 \n‼️mark your calendars :\n🗓️ : 19th January 2024\n📍 : Lantai Dasar FSRD IKJ\n🕐 : 1PM \n📌 Art Exhibition will be announce on instagram story \nPlease join with us because this project open for public 🤩 see you there!!! 🩷 \n
URL:https://senirupaikj.ac.id/kegiatan/divergence-in-fashion/
CATEGORIES:Desain Mode & Busana
ATTACH;FMTTYPE=image/jpeg:https://senirupaikj.ac.id/wp-content/uploads/2024/01/WhatsApp-Image-2024-01-18-at-10.54.37.jpeg
END:VEVENT
END:VCALENDAR