BEGIN:VCALENDAR
VERSION:2.0
PRODID:-//FSRD IKJ - ECPv4.6.21//NONSGML v1.0//EN
CALSCALE:GREGORIAN
METHOD:PUBLISH
X-WR-CALNAME:FSRD IKJ
X-ORIGINAL-URL:https://senirupaikj.ac.id
X-WR-CALDESC:Events for FSRD IKJ
BEGIN:VEVENT
DTSTART;TZID=UTC+0:20200118T080000
DTEND;TZID=UTC+0:20200118T170000
DTSTAMP:20260423T114007
CREATED:20200214T095405Z
LAST-MODIFIED:20200214T095405Z
UID:6351-1579334400-1579366800@senirupaikj.ac.id
SUMMARY:“ENSEMBLE” Mode IKJ
DESCRIPTION:Mode Seni Rupa IKJ presents “ENSEMBLE”\nAbout 15 collections from different personalities\nEnsemble tells a story about our togetherness and how we share each moments together. We can’t wait to share it with you too… \n \n \n\nWe would like to invite you to feel the excitement\ncome and see it \n#SenirupaIKJ\n#KabarSenirupaIKJ #institutkesenianjakarta #IKJ\n#Ensemble\n#JakartaInstituteofArts\n#ModeIKJ\n#TextileMuseum \n
URL:https://senirupaikj.ac.id/kegiatan/ensemble-mode-ikj/
LOCATION:Jl. Ks. Tubun No.2-4\, RT.4/RW.2\, Kota Bambu Sel.\, Kec. Palmerah\,\, Jakarta Barat\, Daerah Khusus Ibukota Jakarta\, 11420\, Indonesia
ATTACH;FMTTYPE=image/jpeg:https://senirupaikj.ac.id/wp-content/uploads/2020/02/Yudisium-Mode-IKJ-3.jpg
END:VEVENT
END:VCALENDAR