BEGIN:VCALENDAR
VERSION:2.0
PRODID:-//FSRD IKJ - ECPv4.6.21//NONSGML v1.0//EN
CALSCALE:GREGORIAN
METHOD:PUBLISH
X-WR-CALNAME:FSRD IKJ
X-ORIGINAL-URL:https://senirupaikj.ac.id
X-WR-CALDESC:Events for FSRD IKJ
BEGIN:VEVENT
DTSTART;TZID=UTC+0:20200305T100000
DTEND;TZID=UTC+0:20200305T140000
DTSTAMP:20260423T164811
CREATED:20200303T045013Z
LAST-MODIFIED:20200305T025815Z
UID:6362-1583402400-1583416800@senirupaikj.ac.id
SUMMARY:Expert Talk & Workshop : WATER COLOUR'S
DESCRIPTION:Prodi Seni Murni\, Seni Rupa IKJ \nMempersembahkan Expert Talk & Workshop : WATER COLOUR’S \nBersama : Galuh Taji Malela @watercolor_galuh\nSeorang seniman Cat Air yang merupakan alumni DKV  di Institut Kesenian Jakarta \n \nramaikan dan jangan sampai ketinggalan \n
URL:https://senirupaikj.ac.id/kegiatan/expert-talk-workshop-water-colours/
LOCATION:Jalan Sekolah Seni No.1 (Raden Saleh)\, Kompleks Taman Ismail Marzuki\, RT.8/RW.2\, Cikini\, Menteng\, Jakarta Pusat\, Jakarta\, 10330\, Indonesia
CATEGORIES:Seni Murni
ATTACH;FMTTYPE=image/jpeg:https://senirupaikj.ac.id/wp-content/uploads/2020/03/Workhop-Seni-Murni.jpg
END:VEVENT
END:VCALENDAR