BEGIN:VCALENDAR
VERSION:2.0
PRODID:-//FSRD IKJ - ECPv4.6.21//NONSGML v1.0//EN
CALSCALE:GREGORIAN
METHOD:PUBLISH
X-WR-CALNAME:FSRD IKJ
X-ORIGINAL-URL:https://senirupaikj.ac.id
X-WR-CALDESC:Events for FSRD IKJ
BEGIN:VEVENT
DTSTART;TZID=UTC+0:20200320T080000
DTEND;TZID=UTC+0:20200427T170000
DTSTAMP:20260423T151144
CREATED:20200320T152932Z
LAST-MODIFIED:20200324T142137Z
UID:6426-1584691200-1588006800@senirupaikj.ac.id
SUMMARY:GIVE AWAY #PJJSENIRUPAIKJ #DIRUMAHAJA
DESCRIPTION:Temen temen mahasiswa Seni Rupa-IKJ kita mau kasih Give away keren nih untuk 5 orang mahasiswa #SenirupaIKJ yang bisa kasih tips unik dan keren selama Perkuliahan Jarak Jauh #PJJSenirupaIKJ #dirumahaja \n \n \nCaranya ??? \n1. Follow akun IG @senirupaikj \n2. Buat konten kreatif “Tips 14 hari supaya gak bosen #dirumahaja selama #PJJSeniRupaIKJ” \n3. Konten dapat berupa video 1 menit/foto/slide foto \n4. Tambahkan hastag #PJJSeniRupaIKJ #SenirupaIKJ #tipsPJJSeniRupa di caption postingan kalian \n5. Tag IG @SenirupaIKJ dan prodi temen-temen (@senimurniikj @modeikj @kriyastudio @interiorikj @deskovikj ) \n6. Tag 3 akun IG teman kalian dikolom komentar postingan ini untuk ikutan buat konten kreatif juga! \n7. Periode Give away konten kreatif berlangsung dari 20 s/d 27 Maret 2020 \n8. 5 Tips terbaik akan diumumkan pada 1 April 2020 \nJadi temen-temen dalam Give Away ini\, temen-temen harus menggunakan akun Instagram teman-teman ya!! \n \n#PJJSenirupaIKJ #dirumahaja tetep kuliah dan berkarya !\n#tipsPJJSeniRupa \n  \n
URL:https://senirupaikj.ac.id/kegiatan/give-away-pjjsenirupaikj-dirumahaja/
CATEGORIES:Seni Rupa
ATTACH;FMTTYPE=image/jpeg:https://senirupaikj.ac.id/wp-content/uploads/2020/03/Give-Away-PJJ-Seni-Rupa-IKJ-banner.jpg
ORGANIZER;CN="Seni%20Rupa-IKJ":MAILTO:kerjasama@senirupaikj.ac.id
END:VEVENT
END:VCALENDAR