BEGIN:VCALENDAR
VERSION:2.0
PRODID:-//FSRD IKJ - ECPv4.6.21//NONSGML v1.0//EN
CALSCALE:GREGORIAN
METHOD:PUBLISH
X-WR-CALNAME:FSRD IKJ
X-ORIGINAL-URL:https://senirupaikj.ac.id
X-WR-CALDESC:Events for FSRD IKJ
BEGIN:VEVENT
DTSTART;TZID=UTC+0:20200321T080000
DTEND;TZID=UTC+0:20200404T170000
DTSTAMP:20260423T132232
CREATED:20200323T084805Z
LAST-MODIFIED:20200324T142300Z
UID:6442-1584777600-1586019600@senirupaikj.ac.id
SUMMARY:GIVE AWAY SENI RUPA IKJ UNTUK SMA/K
DESCRIPTION:Seni Rupa IKJ mau bagi-bagi Give Away lagi nih !!!\nBuat kalian Siswa/i tingkat Menengah Atas/Kejuruan (SMA/K) yang lagi #dirumahaja \n \n \nCaranya gampang banget !\n1. Follow akun IG @senirupaikj \n2. Buat Video kreatif sekeren-kerennya dengan durasi 1 menit “Cara Cuci Tangan yang benar untuk mencegah Covid19” \n3. Tag IG @SenirupaIKJ dan tambahkan hastag #SenirupaIKJ #PJJSenirupaIKJ #FSRtanggapCovid19 di caption postingan kalian \n4. Tag 3 akun IG teman kalian dikolom komentar postingan IG @senirupaikj supaya ikutan buat Video Kreatif juga ! \n5. Periode Give away ini berlangsung dari 21 Maret s/d 4 April 2020 \n6. Untuk 10 video terpilih akan diumumkan pada 8 April 2020 \n7. Jadi temen-temen yang mau ikutan harus memiliki akun Instagram yaaah!!! \n \n#SeniRupaIKJ #dirumahaja aja tetep berkarya ! \n
URL:https://senirupaikj.ac.id/kegiatan/give-away-seni-rupa-ikj-untuk-sma-k/
CATEGORIES:Seni Rupa
ATTACH;FMTTYPE=image/jpeg:https://senirupaikj.ac.id/wp-content/uploads/2020/03/banner.jpg
ORGANIZER;CN="Seni%20Rupa-IKJ":MAILTO:kerjasama@senirupaikj.ac.id
END:VEVENT
END:VCALENDAR