BEGIN:VCALENDAR
VERSION:2.0
PRODID:-//FSRD IKJ - ECPv4.6.21//NONSGML v1.0//EN
CALSCALE:GREGORIAN
METHOD:PUBLISH
X-WR-CALNAME:FSRD IKJ
X-ORIGINAL-URL:https://senirupaikj.ac.id
X-WR-CALDESC:Events for FSRD IKJ
BEGIN:VEVENT
DTSTART;TZID=UTC+0:20191219T130000
DTEND;TZID=UTC+0:20191219T150000
DTSTAMP:20260423T114442
CREATED:20191219T224901Z
LAST-MODIFIED:20191219T225317Z
UID:6247-1576760400-1576767600@senirupaikj.ac.id
SUMMARY:Historical Costume Fashion Show
DESCRIPTION:Dalam rangka penilaian mata kuliah History Costume\, Prodi Mode Busana Seni Rupa-IKJ mempersembahkan \n“Historical Costume Fashion Show” \n \nTemen temen yang penasaran mau liat hasil karya tugas kuliah dari mahasiswa Mode IKJ boleh banget mampir mampir!!! \nInfo lebih lanjut\, cek instagram kami di : \n@senirupaikj @modeikj\n@institutkesenianjakarta \n  \n
URL:https://senirupaikj.ac.id/kegiatan/historical-costume-fashion-show/
LOCATION:Jalan Sekolah Seni No.1 (Raden Saleh)\, Kompleks Taman Ismail Marzuki\, RT.8/RW.2\, Cikini\, Menteng\, Jakarta Pusat\, Jakarta\, 10330\, Indonesia
CATEGORIES:Desain Mode & Busana
ATTACH;FMTTYPE=image/jpeg:https://senirupaikj.ac.id/wp-content/uploads/2019/12/berita-senirupa-ikj-historical-fashionshow.jpg
END:VEVENT
END:VCALENDAR