BEGIN:VCALENDAR
VERSION:2.0
PRODID:-//FSRD IKJ - ECPv4.6.21//NONSGML v1.0//EN
CALSCALE:GREGORIAN
METHOD:PUBLISH
X-WR-CALNAME:FSRD IKJ
X-ORIGINAL-URL:https://senirupaikj.ac.id
X-WR-CALDESC:Events for FSRD IKJ
BEGIN:VEVENT
DTSTART;TZID=UTC+0:20210823T130000
DTEND;TZID=UTC+0:20210826T220000
DTSTAMP:20260424T105710
CREATED:20210824T075605Z
LAST-MODIFIED:20210824T075605Z
UID:9358-1629723600-1630015200@senirupaikj.ac.id
SUMMARY:Illuscamp - Deskov IKJ
DESCRIPTION:Setiap tahun mahasiswa peminatan ilustrasi IKJ yang telah melewati Mayor 4 (semester 6) selalu mengadakan kegiatan Illustration Camp / #Illuscamp yang telah dimulai sejak tahun 2016 (angkatan 13). \n \n \n \n \n  \nBiasanya di masa normal\, Illuscamp dilakukan di suatu tempat (di luar kota seperti Sukabumi\, Jogja dan Bogor) untuk beberapa hari dan diisi dengan banyak kegiatan yang dilakukan seputar perkuliahan\, dunia kerja\, menggambar bersama\, jalan-jalan dan kegiatan kemasyarakatan. \nSeperti angkatan sebelumnya\, angkatan 18 kembali menerima tantangan untuk melaksanakan Illuscamp secara virtual. Mungkin Covid-19 masih berkeliaran dan membatasi kita untuk berinteraksi secara langsung di tempat\, namun bukan tidak mungkin untuk mewujudkan Illuscamp ini secara online dan membuat memori berharga yang dapat dikenang dengan senyuman. \nDengan kekuatan solidaritas\, tidak ada yang tidak mungkin. Karena itu\, keluarga besar peminatan Ilustrasi\, alumni\, mahasiswa aktif dan pengajar perlu memberikan dukungan untuk kegiatan ini. \n
URL:https://senirupaikj.ac.id/kegiatan/illuscamp-deskov-ikj/
CATEGORIES:Desain Mode & Busana
ATTACH;FMTTYPE=image/jpeg:https://senirupaikj.ac.id/wp-content/uploads/2021/08/illus-camp-banner.jpg
END:VEVENT
END:VCALENDAR