BEGIN:VCALENDAR
VERSION:2.0
PRODID:-//FSRD IKJ - ECPv4.6.21//NONSGML v1.0//EN
CALSCALE:GREGORIAN
METHOD:PUBLISH
X-WR-CALNAME:FSRD IKJ
X-ORIGINAL-URL:https://senirupaikj.ac.id
X-WR-CALDESC:Events for FSRD IKJ
BEGIN:VEVENT
DTSTART;TZID=UTC+0:20210717T130000
DTEND;TZID=UTC+0:20210717T150000
DTSTAMP:20260423T084038
CREATED:20210713T080102Z
LAST-MODIFIED:20210713T080102Z
UID:9179-1626526800-1626534000@senirupaikj.ac.id
SUMMARY:KELAS ONLINE "3D Sebagai Media Presentasi Desain Interior"
DESCRIPTION:\n\n  \n\n\n\n\n\n\n\n\n\n\nView this post on Instagram\n\n\n\n\n\n\n\n\n\n\n\n\n\n\n\n\n\n\n\n\n\n\n  \nA post shared by Fakultas Seni Rupa IKJ (@senirupaikj) \n\n\n
URL:https://senirupaikj.ac.id/kegiatan/kelas-online-3d-sebagai-media-presentasi-desain-interior/
CATEGORIES:Seni Rupa
ATTACH;FMTTYPE=image/jpeg:https://senirupaikj.ac.id/wp-content/uploads/2021/07/open-house-ikj.jpg
END:VEVENT
END:VCALENDAR