BEGIN:VCALENDAR
VERSION:2.0
PRODID:-//FSRD IKJ - ECPv4.6.21//NONSGML v1.0//EN
CALSCALE:GREGORIAN
METHOD:PUBLISH
X-WR-CALNAME:FSRD IKJ
X-ORIGINAL-URL:https://senirupaikj.ac.id
X-WR-CALDESC:Events for FSRD IKJ
BEGIN:VEVENT
DTSTART;TZID=UTC+0:20220110T080000
DTEND;TZID=UTC+0:20220122T170000
DTSTAMP:20260424T141425
CREATED:20220113T081852Z
LAST-MODIFIED:20220113T081852Z
UID:9839-1641801600-1642870800@senirupaikj.ac.id
SUMMARY:PAMERAN ONLINE VOLUME 2! - Prodi Desain Interior
DESCRIPTION:HALO DESIGNERS! \nDesain Interior Institut Kesenian Jakarta mempersembahkan\nPAMERAN ONLINE VOLUME 2! \n \nHalo temen-temen\, Pameran Online kembali lagi nih! Yap\, pameran yang dilakukan secara daring ini diadakan kembali pada tahun ini. Yuk temen-temen\, jangan lupa berpartisipasi ya! \nTEMA\nUrban Furniture for Public Area : “SEATING SPACE”\nTema ini diangkat untuk merespon fenomena di mana banyaknya _seating space_ pada _public area_ yang kurang memperhatikan kenyamanan. \nTANGGAL\n30 Januari – 5 Februari 2022. \nTEMPAT\nInstagram Pameran Online Desain Interior IKJ\n( instagram.com/online.vol2 ) \nTIMELINE\nRegistration & Submission — 10 – 22 Januari 2022\nExhibition — 30 Januari – 5 Februari 2022 \nPeserta lomba berlaku untuk tingkat pelajar SMA/SMK/sederajat & mahasiswa Interior seluruh Indonesia. \n*TOTAL HADIAH 1.250.000!!!\nPemenang Pameran online akan dibagi menjadi 3 kategori pemenang\, yaitu:\n— Best Design\n— Best Concept\n— Favorite (Berdasarkan likes instagram) \nPendaftaran dapat dilakukan pada : \nrJika temen-temen ingin bertanya\, dapat menhubungi _contact person_ :\n085931000596 ( Edo Siregar )\n08117703214 ( Elzahra Krisanta ) \nJANGAN SAMPAI KETINGGALAN!!! \n
URL:https://senirupaikj.ac.id/kegiatan/pameran-online-volume-2-prodi-desain-interior/
CATEGORIES:Desain Interior
ATTACH;FMTTYPE=image/jpeg:https://senirupaikj.ac.id/wp-content/uploads/2022/01/desain-interior-banner.jpg
END:VEVENT
END:VCALENDAR