BEGIN:VCALENDAR
VERSION:2.0
PRODID:-//FSRD IKJ - ECPv4.6.21//NONSGML v1.0//EN
CALSCALE:GREGORIAN
METHOD:PUBLISH
X-WR-CALNAME:FSRD IKJ
X-ORIGINAL-URL:https://senirupaikj.ac.id
X-WR-CALDESC:Events for FSRD IKJ
BEGIN:VEVENT
DTSTART;TZID=UTC+0:20210830T080000
DTEND;TZID=UTC+0:20210930T170000
DTSTAMP:20260421T140856
CREATED:20210830T093157Z
LAST-MODIFIED:20210830T093158Z
UID:9394-1630310400-1633021200@senirupaikj.ac.id
SUMMARY:Pameran Yudisium Tugas Akhir Prodi Kriya Seni Semester Genap 2020/2021
DESCRIPTION:Halo selamat hari Senin\nMari awali aktivitas dengan positive mind..! \nkita persembahkan Pameran Yudisium Tugas Akhir Prodi Kriya Seni Semester Genap 2020/2021 melalui sebuah acara pameran online karya mahasiswa Fakultas Seni Rupa- IKJ. \nPameran TA Kriya Seni FSR IKJ \nMereka akan berbagi pengalaman dalam menggagas konsep & merancang karya Tugas Akhir ini\, selamat menikmati pameran Tugas akhir dari teman-teman kriya\, Adi gunawan\,Desita Noviana\, Diah kusuma wardani\, Shidai M.Khaidar\, dan Taswirul Fani \nhttps://galeri.senirupaikj.ac.id/pameran-prodi/tugas-akhir-mahasiswa/yudisium-tugas-akhir-kriya-seni/ \n
URL:https://senirupaikj.ac.id/kegiatan/pameran-yudisium-tugas-akhir-prodi-kriya-seni-semester-genap-2020-2021/
CATEGORIES:Kriya Seni
ATTACH;FMTTYPE=image/jpeg:https://senirupaikj.ac.id/wp-content/uploads/2021/08/kriya-TA-.jpg
END:VEVENT
END:VCALENDAR