BEGIN:VCALENDAR
VERSION:2.0
PRODID:-//FSRD IKJ - ECPv4.6.21//NONSGML v1.0//EN
CALSCALE:GREGORIAN
METHOD:PUBLISH
X-WR-CALNAME:FSRD IKJ
X-ORIGINAL-URL:https://senirupaikj.ac.id
X-WR-CALDESC:Events for FSRD IKJ
BEGIN:VEVENT
DTSTART;TZID=UTC+0:20210326T190000
DTEND;TZID=UTC+0:20210326T210000
DTSTAMP:20260423T084026
CREATED:20210401T040951Z
LAST-MODIFIED:20210401T040951Z
UID:8644-1616785200-1616792400@senirupaikj.ac.id
SUMMARY:PORTOFOLIO SHARING SENI RUPA IKJ
DESCRIPTION:PORTOFOLIO SHARING\nSENI RUPA IKJ 🎉 \nBincang santai bareng mahasiswa Seni Rupa IKJ yang akan sharing-sharing karya tugas dalam masa perkuliahan hingga menjadi portofolio karya ! \n\nSesi I\nMenghadirkan :\n▶Mahasiswa Desain grafis\n🔸Maria Imanuella\n🔸Mega Athalia \n▶Mahasiswa Multimedia\n🔸Jessica Pohan\n🔸Michelle Josephine \nVia ZOOM…!\nTerbuka untuk umum 😎 \nRegistrasi : \nJoin Zoom \nAtau\nMeeting ID: 833 4344 9297\nPasscode: 257266 \n
URL:https://senirupaikj.ac.id/kegiatan/portofolio-sharing-seni-rupa-ikj/
CATEGORIES:Seni Rupa
ATTACH;FMTTYPE=image/jpeg:https://senirupaikj.ac.id/wp-content/uploads/2021/04/portofolio-sharingbanner.jpg
END:VEVENT
END:VCALENDAR