BEGIN:VCALENDAR
VERSION:2.0
PRODID:-//FSRD IKJ - ECPv4.6.21//NONSGML v1.0//EN
CALSCALE:GREGORIAN
METHOD:PUBLISH
X-WR-CALNAME:FSRD IKJ
X-ORIGINAL-URL:https://senirupaikj.ac.id
X-WR-CALDESC:Events for FSRD IKJ
BEGIN:VEVENT
DTSTART;TZID=UTC+0:20210728T153000
DTEND;TZID=UTC+0:20210728T173000
DTSTAMP:20260421T135657
CREATED:20210728T043917Z
LAST-MODIFIED:20210728T043917Z
UID:9207-1627486200-1627493400@senirupaikj.ac.id
SUMMARY:Public Lecture "PELUANG PRODUK KRIYA KINI"
DESCRIPTION:Produk kriya Nusantara di Indonesia merupakan budaya tradisi yang awal mulanya sebagai media pelengkap upacara dan ritual dalam menjalankan kehidupan sehari-hari\, seperti kain tenun songket\, batik\, ukiran kayu\, patung besi\, wadah berbahan keramik dan lain\nsebagainya. \nKini dalam ranah akademis kata kriya menjadi satu terminologi dari cabang\nsenirupa yang menghasilkan benda atau produk yang bernilai seni dan membutuhkan keahlian tangan (craftsmanship) yang tinggi untuk membuatnya. \nSaat ini dengan bergulirnya industri kreatif\, produk kriya menjadi produk andalan yang dapat di eksplorasi\, baik dari teknik pembuatan maupun material yang digunakan sehingga dapat menghasilkan varian produk yang beragam. \nSeiring waktu\, saat ini dimana kita harus menjalani masa kehidupan normal-baru\, maka sistem pembelajaran dilakukan dengan sangat terbatas. Namun keterbatasan ini menjadi peluang untuk tetap kreatif dan menjadi tantangan kita untuk tetap produktif serta menghasilkan karya karya baru yang memudahkan hidup manusia. \nNamun bagaimanakah Produk Kriya menjawab tantangan normal-baru saat ini? \nProudly Present 🎉\nPublic Lecture\n✨PELUANG PRODUK KRIYA KINI✨ \n \nPembicara :\n🔸Xania Maya Christina\, Bsc (Pemilik Chic Mart Gallery)\n🔸Sonny Muchlison\, M.Sn.(Dosen Prodi Kriya Seni FSR IKJ)\n🔸Salman Maulana\, S.Sn.\, M.Ds. (Dosen Desain Produk Universitas Esa Unggul) \nPengarah Diskusi :\nDr. Lucky Wijayanti\, M.Sn. \nPendaftaran : \natau scan barcode di poster \n➡️ Via ZOOM\n➡️ Kuota Terbatas\n➡️ E-Sertifikat \n
URL:https://senirupaikj.ac.id/kegiatan/public-lecture-peluang-produk-kriya-kini/
CATEGORIES:Kriya Seni
ATTACH;FMTTYPE=image/jpeg:https://senirupaikj.ac.id/wp-content/uploads/2021/07/kriya-banner.jpg
END:VEVENT
END:VCALENDAR