BEGIN:VCALENDAR
VERSION:2.0
PRODID:-//FSRD IKJ - ECPv4.6.21//NONSGML v1.0//EN
CALSCALE:GREGORIAN
METHOD:PUBLISH
X-WR-CALNAME:FSRD IKJ
X-ORIGINAL-URL:https://senirupaikj.ac.id
X-WR-CALDESC:Events for FSRD IKJ
BEGIN:VEVENT
DTSTART;TZID=UTC+0:20201026T130000
DTEND;TZID=UTC+0:20201026T170000
DTSTAMP:20260422T023425
CREATED:20201025T062954Z
LAST-MODIFIED:20201025T062954Z
UID:7991-1603717200-1603731600@senirupaikj.ac.id
SUMMARY:Seminar Penelitian Akademik (Animasi) : ANIMAKINI 2020
DESCRIPTION:ANIMAKINI 2020\ndengan bangga mempersembahkan 💐 \nPuncak ANIMAKINI 2020\nAnimasi Indonesia\, Meski Berjarak Tetap Bergerak \nSEMINAR PENELITIAN AKADEMIK\n(ANIMASI) \n\nDengan menghadirkan narasumber: \n1. Ehwan Kurniawan @ehwankurniawan\nPengajar Multimedia Deskov IKJ\n\n2. Mazaya Mufitiya Al Farabi @ayazamazaya\nAlumni Program Pascasarjana ITB\n\n3. Alfan Setyawan @setyawan.alfan\nPengajar ASDI Surakarta\n\n4. Bagus Yudoprakoso @bagusyudoprakoso\nAlumni Program Pascasarjana UGM\n \nPendaftaran : \n🖱Via Zoom Animakini\n✔️Gratis\n✔️Dapat E-Sertifikat\n✔️Terbatas 450 peserta\n✔️Terbuka untuk umum \nInfo selengkapnya :\n💻www.animakini.id\n📱0817173773 \n📲 Sosial Media\nIG @animakini\nFacebook : animakini ID \nAktifkan notifikasi postingan Ig Animakini untuk dapatkan informasi acara puncak Animakini 2020 ! \n
URL:https://senirupaikj.ac.id/kegiatan/seminar-penelitian-akademik-animasi-animakini-2020/
CATEGORIES:Desain Komunikasi Visual
ATTACH;FMTTYPE=image/jpeg:https://senirupaikj.ac.id/wp-content/uploads/2020/10/seminar-akademik-animakini-2020.jpg
END:VEVENT
END:VCALENDAR