BEGIN:VCALENDAR
VERSION:2.0
PRODID:-//FSRD IKJ - ECPv4.6.21//NONSGML v1.0//EN
CALSCALE:GREGORIAN
METHOD:PUBLISH
X-WR-CALNAME:FSRD IKJ
X-ORIGINAL-URL:https://senirupaikj.ac.id
X-WR-CALDESC:Events for FSRD IKJ
BEGIN:VEVENT
DTSTART;TZID=UTC+0:20201008T150000
DTEND;TZID=UTC+0:20201008T180000
DTSTAMP:20260422T040341
CREATED:20201005T104732Z
LAST-MODIFIED:20201005T104858Z
UID:7964-1602169200-1602180000@senirupaikj.ac.id
SUMMARY:Sharing Animakini 2020\, Sharing Pengajar Animasi
DESCRIPTION:ANIMASI INDONESIA\, MESKI BERJARAK TETAP BERGERAK ! \nBuat yang sudah nanti-nanti acara Animakini 2020\, yuk kita pemanasan dulu\, acaranya daring loh.. Jadi kalian yg ada di seluruh Indonesia bisa ikutan 😎 \nSharing Animakini 🗣️ \nSesi I\n13.00-14.30 WIB\nSharing Animasi Pengajar SMKN 1 Ciomas Bogor\nBersama Januar Ashari\, Pengajar SMKN 1 Ciomas Bogor\nDi sharing ini nantinya akan membahas progres karya-karya animasi dari Siswa SMK 1 Ciomas \n \n  \nSesi II\nBersama Evaliata Br Sembiring\, Kaprodi Teknik Multimedia dan Jaringan\, Politeknik Negeri Batam yang akan sharing-sharing tentang Integrasi Kurikulum Akademik Bersinergi dengan Industri Animasi \n \nPendaftaran : \nVia Zoom Animakini\nAcaranya :\n✔️Gratis\n✔️Dapat E-Sertifikat\n✔️Terbatas 450 peserta\n✔️Terbuka untuk umum \nInfo selengkapnya :\n💻 www.animakini.id\n📱 0817173773 \n📲 Sosial Media\nIG @animakini\nFacebook : animakini \n
URL:https://senirupaikj.ac.id/kegiatan/sharing-animakini-2020-sharing-pengajar-animasi/
ATTACH;FMTTYPE=image/jpeg:https://senirupaikj.ac.id/wp-content/uploads/2020/10/Sharing-animakini-2020.jpg
END:VEVENT
END:VCALENDAR