BEGIN:VCALENDAR
VERSION:2.0
PRODID:-//FSRD IKJ - ECPv4.6.21//NONSGML v1.0//EN
CALSCALE:GREGORIAN
METHOD:PUBLISH
X-WR-CALNAME:FSRD IKJ
X-ORIGINAL-URL:https://senirupaikj.ac.id
X-WR-CALDESC:Events for FSRD IKJ
BEGIN:VEVENT
DTSTART;TZID=UTC+0:20220129T130000
DTEND;TZID=UTC+0:20220129T160000
DTSTAMP:20260422T025954
CREATED:20220128T091901Z
LAST-MODIFIED:20220128T091901Z
UID:10006-1643461200-1643472000@senirupaikj.ac.id
SUMMARY:"Sharing Screening Networking" 2022 Vol. 1
DESCRIPTION:FSRD IKJ Proudly Present\n“Sharing Screening Networking” \n \nPenasaran dengan karya dari para alumni 5 Prodi yang baru lulus TA dengan nilai terbaik? \nDalam Kegiatan ini\, SSN dengan bangga menampilkan sharing karya TA yang seru\, menarik dan tentunya inspiratif dari para alumni dengan nilai terbaik. \nTempat : Zoom Meeting\n( ID : 578 447 0434 passcode: ssnfsrdikj ) \n \n \n \nPEMBICARA Sesi I :\n1. Annisa Sekarani\n2. Nirwan Sambudi\n3. Desita Noviyanti\n4. Maria Riskana\n5. Casey Nova \nJangan sampai ketinggalan ya!\n#SSN2022 #FSRDIKJ \n
URL:https://senirupaikj.ac.id/kegiatan/sharing-screening-networking-2022-vol-1/
ATTACH;FMTTYPE=image/jpeg:https://senirupaikj.ac.id/wp-content/uploads/2022/01/ssn-banner.jpg
END:VEVENT
END:VCALENDAR