BEGIN:VCALENDAR
VERSION:2.0
PRODID:-//FSRD IKJ - ECPv4.6.21//NONSGML v1.0//EN
CALSCALE:GREGORIAN
METHOD:PUBLISH
X-WR-CALNAME:FSRD IKJ
X-ORIGINAL-URL:https://senirupaikj.ac.id
X-WR-CALDESC:Events for FSRD IKJ
BEGIN:VEVENT
DTSTART;TZID=UTC+0:20200117T080000
DTEND;TZID=UTC+0:20200117T170000
DTSTAMP:20260423T113930
CREATED:20200212T091019Z
LAST-MODIFIED:20200212T091019Z
UID:6338-1579248000-1579280400@senirupaikj.ac.id
SUMMARY:Sidang TA Kriya Seni
DESCRIPTION:Siang gengges!🌤 \nnggak berasa ni hariJumat besok temen-temen\, ade ade\, abang mpok kita sidang tugas akhir nih.! \nMarkipat dateng!!! \nLiat-liat hasil karyanya\, kali aja dapet inspirasi berkarya. Sekalian dateng buat kasih ucapan selamat menempuh kehidupan yang sebenarnya⚡️👏🏼🥳 Ayooo ramaikan genggesss! \n \n
URL:https://senirupaikj.ac.id/kegiatan/sidang-ta-kriya-seni/
LOCATION:Jalan Sekolah Seni No.1 (Raden Saleh)\, Kompleks Taman Ismail Marzuki\, RT.8/RW.2\, Cikini\, Menteng\, Jakarta Pusat\, Jakarta\, 10330\, Indonesia
ATTACH;FMTTYPE=image/jpeg:https://senirupaikj.ac.id/wp-content/uploads/2020/02/banner-sidang-TA-Kriya-Seni.jpg
END:VEVENT
END:VCALENDAR