BEGIN:VCALENDAR
VERSION:2.0
PRODID:-//FSRD IKJ - ECPv4.6.21//NONSGML v1.0//EN
CALSCALE:GREGORIAN
METHOD:PUBLISH
X-WR-CALNAME:FSRD IKJ
X-ORIGINAL-URL:https://senirupaikj.ac.id
X-WR-CALDESC:Events for FSRD IKJ
BEGIN:VEVENT
DTSTART;TZID=UTC+0:20240320T090000
DTEND;TZID=UTC+0:20240323T170000
DTSTAMP:20260423T192856
CREATED:20240307T074605Z
LAST-MODIFIED:20240307T091410Z
UID:11587-1710925200-1711213200@senirupaikj.ac.id
SUMMARY:The 20th Indonesia International Textile & Garment Machinery & Accessories Exhibition (FSRD IKJ x INDO INTERTEX)
DESCRIPTION:Pelaksanaan the 20th Indonesia International Textile & Garment Machinery & Accessories Exhibition yang akan berlangsung pada 20-23 Maret 2024 di Jakarta International Expo (JIEXPO) – Kemayoran\, Indonesia yang diselenggarakan oleh PT Peraga Nusantara Jaya Sakti. Dalam kegiatan tersebut Fakultas Seni Rupa dan Desain IKJ bekerja sama dengan PT Peraga Nusantara Jaya Sakti (Indo Intertex) dengan mendelegasikan 2 kelompok mahasiswa yang akan mengikuti kompetisi Eco Chic Upcycling. \n2 Kelompok mahasiswa nantinya akan mendapatkan pelatihan aplikasi 3D cloting yang akan diaplikasikan dalam kompetisi\, selain itu FSRD IKJ juga akan berkesempatan membukan booth dalam pameran tersebut. Mahasiswa pun nantinya juga akan mendapatkan jadwal kunjungan dalam Pelaksanaan the 20th Indonesia International Textile & Garment Machinery & Accessories Exhibition. \nInfo lebih lanjut\, kunjungi website: https://indointertex.com/ \n
URL:https://senirupaikj.ac.id/kegiatan/the-20th-indonesia-international-textile-garment-machinery-accessories-exhibition-fsrd-ikj-x-indo-intertex-2/
LOCATION:Jl. H. Benyamin Suaeb\, Kemayoran\, Jakarta\, Indonesia\, Jakarta\, DKI Jakarta\, Indonesia
CATEGORIES:Desain Mode & Busana
ATTACH;FMTTYPE=image/jpeg:https://senirupaikj.ac.id/wp-content/uploads/2024/02/FSRD-IKJ-Eco-Chic-Upcycling-Competition-Ads-Banner-Website.jpg
END:VEVENT
END:VCALENDAR