BEGIN:VCALENDAR
VERSION:2.0
PRODID:-//FSRD IKJ - ECPv4.6.21//NONSGML v1.0//EN
CALSCALE:GREGORIAN
METHOD:PUBLISH
X-WR-CALNAME:FSRD IKJ
X-ORIGINAL-URL:https://senirupaikj.ac.id
X-WR-CALDESC:Events for FSRD IKJ
BEGIN:VEVENT
DTSTART;TZID=UTC+0:20210327T083000
DTEND;TZID=UTC+0:20210327T130000
DTSTAMP:20260424T091611
CREATED:20210401T041449Z
LAST-MODIFIED:20210401T042040Z
UID:8648-1616833800-1616850000@senirupaikj.ac.id
SUMMARY:WEBINAR KOLABORASI - Arsitektur Lanskap Universitas Trisakti & Desain Interior Institut Kesenian Jakarta
DESCRIPTION:\n\n  \n\n\n\n\n\n\n\n\n\n\nView this post on Instagram\n\n\n\n\n\n\n\n\n\n\n\n\n\n\n\n\n\n\n\n\n\n\n  \nA post shared by Fakultas Seni Rupa IKJ (@senirupaikj) \n\n\n
URL:https://senirupaikj.ac.id/kegiatan/webinar-kolaborasi-arsitektur-lanskap-universitas-trisakti-desain-interior-institut-kesenian-jakarta/
CATEGORIES:Desain Interior
ATTACH;FMTTYPE=image/jpeg:https://senirupaikj.ac.id/wp-content/uploads/2021/04/webinar-kolaborasi.jpg
END:VEVENT
END:VCALENDAR